BEGIN:VCALENDAR
VERSION:2.0
PRODID:-//Braided River Conservation and Management Network - ECPv4.6.23//NONSGML v1.0//EN
CALSCALE:GREGORIAN
METHOD:PUBLISH
X-WR-CALNAME:Braided River Conservation and Management Network
X-ORIGINAL-URL:http://braid.org.nz
X-WR-CALDESC:Events for Braided River Conservation and Management Network
BEGIN:VEVENT
DTSTART;TZID=Pacific/Auckland:20181127T130000
DTEND;TZID=Pacific/Auckland:20181127T170000
DTSTAMP:20181218T075229
CREATED:20180122T041955Z
LAST-MODIFIED:20180122T041955Z
UID:10783-1543323600-1543338000@braid.org.nz
SUMMARY:Canterbury Water: Ashburton Zone Committee Meeting
DESCRIPTION:The Canterbury Water Management Strategy (CWMS) is being implemented throughout Canterbury. The Ashburton Zone Committee meets on the fourth Tuesday of each month. \nVenues and times may vary\, so please check the website for details and agendas. The meetings are open to the public. These are vitally important meetings for anyone interested in the future of our braided rivers. \n \n
URL:http://braid.org.nz/event/canterbury-water-ashburton-zone-committee-meeting-13/
LOCATION:Ashburton Water\, 2 Baring Square\, Ashburton\, Canterbury\, New Zealand
CATEGORIES:Zone Committee meetings
END:VEVENT
BEGIN:VEVENT
DTSTART;TZID=Pacific/Auckland:20181203T080000
DTEND;TZID=Pacific/Auckland:20181216T170000
DTSTAMP:20181218T075229
CREATED:20180811T042332Z
LAST-MODIFIED:20180811T042617Z
UID:11565-1543824000-1544979600@braid.org.nz
SUMMARY:Bird survey: Upper Rakaia
DESCRIPTION:\nThis river bird survey is being undertaken from Section 1-3 Gorge to Double Hill. \nAs always\, additional help is appreciated\, so it’d be great if you had the time and inclination to join in. \nOrganiser: DOC – Nicky Armstrong \nContact: narmstrong@doc.govt.nz \nBack up dates: 3 days \n
URL:http://braid.org.nz/event/bird-survey-upper-rakaia/
CATEGORIES:Bird counts
END:VEVENT
BEGIN:VEVENT
DTSTART;TZID=Pacific/Auckland:20181203T130000
DTEND;TZID=Pacific/Auckland:20181203T170000
DTSTAMP:20181218T075229
CREATED:20180124T035725Z
LAST-MODIFIED:20180124T035725Z
UID:10878-1543842000-1543856400@braid.org.nz
SUMMARY:Canterbury Water: Orari Temuka Opihi Pareora Zone Management Committee Meeting
DESCRIPTION:\nThe Canterbury Water Management Strategy (CWMS) is being implemented throughout Canterbury. The Orari Temuka  Opihi Pareora Zone Management Committee meets regularly to discuss issues around water management at Timaru District Council King George Place\, Timaru Central. \n  \nPlease note\, the venue and times may change\, so please check their website for details and agenda. \nThe meeting is open to the public. These are vitally important meetings for anyone interested in the future of our braided rivers. \n \n
URL:http://braid.org.nz/event/canterbury-water-orari-temuka-opihi-pareora-zone-management-committee-meeting-11/
CATEGORIES:Zone Committee meetings
END:VEVENT
BEGIN:VEVENT
DTSTART;TZID=Pacific/Auckland:20181204T080000
DTEND;TZID=Pacific/Auckland:20181207T170000
DTSTAMP:20181218T075229
CREATED:20180828T234952Z
LAST-MODIFIED:20180828T234952Z
UID:11636-1543910400-1544202000@braid.org.nz
SUMMARY:New Zealand Hydrological Society Annual Conference
DESCRIPTION:The NZ Hydrological and Meteorological Societies welcome you to their joint annual conference to be held in the garden city\, Christchurch from 4 to 7 December 2018. The conference theme\, “The Hydrological Cycle in Changing Times” reminds us of challenges and opportunities facing our precious climate and water resources in Aoteoroa New Zealand and beyond.  The conference committee will be happy to hear your ideas in designing the conference programme. \n  \n
URL:http://braid.org.nz/event/new-zealand-hydrological-society-annual-conference/
LOCATION:La Vida Conference Centre\, 34a Hansons Lane\, Christchurch\, New Zealand
CATEGORIES:Conferences & meetings
END:VEVENT
BEGIN:VEVENT
DTSTART;TZID=Pacific/Auckland:20181204T140000
DTEND;TZID=Pacific/Auckland:20181204T170000
DTSTAMP:20181218T075229
CREATED:20180124T050852Z
LAST-MODIFIED:20180124T050852Z
UID:10955-1543932000-1543942800@braid.org.nz
SUMMARY:Canterbury Water: Selwyn Waihora Zone Meeting
DESCRIPTION:\nThe Canterbury Water Management Strategy (CWMS) is being implemented throughout Canterbury.  \nThe Selwyn Waihora Zone Management Committee meets regularly to discuss issues around water management.  \nVenues and times may vary\, so please check the website for details and agenda. \nThe meeting is open to the public. These are vitally important meetings for anyone interested in the future of our braided rivers. \n \n
URL:http://braid.org.nz/event/canterbury-water-selwyn-waihora-zone-meeting-10/
LOCATION:Lincoln Events Centre\, 15 Meijer Drive\, Lincoln\, Canterbury\, 7608\, New Zealand
CATEGORIES:Zone Committee meetings
END:VEVENT
BEGIN:VEVENT
DTSTART;TZID=Pacific/Auckland:20181205T123000
DTEND;TZID=Pacific/Auckland:20181205T170000
DTSTAMP:20181218T075229
CREATED:20180122T032310Z
LAST-MODIFIED:20180122T032310Z
UID:10752-1544013000-1544029200@braid.org.nz
SUMMARY:Canterbury Water: Kaikoura Zone Committee Meeting
DESCRIPTION:The Canterbury Water Management Strategy (CWMS) is being implemented throughout Canterbury.The Kaikoura Zone Committee meets on the last Wednesday of each month. Venues and times may vary\, so please check the website for details and agenda. \nThe meeting is open to the public. These are vitally important meetings for anyone interested in the future of our braided rivers. \n \n
URL:http://braid.org.nz/event/canterbury-water-kaikoura-zone-committee-meeting-11/
LOCATION:Council Chambers\, Civic Building\, 96 West End\, Kaikoura\, New Zealand
CATEGORIES:Zone Committee meetings
END:VEVENT
BEGIN:VEVENT
DTSTART;TZID=Pacific/Auckland:20181210T150000
DTEND;TZID=Pacific/Auckland:20181210T190000
DTSTAMP:20181218T075229
CREATED:20180122T045534Z
LAST-MODIFIED:20180122T045609Z
UID:10823-1544454000-1544468400@braid.org.nz
SUMMARY:Canterbury Water: Hurunui Waiau Zone Committee
DESCRIPTION:\nThe Canterbury Water Management Strategy (CWMS) is being implemented throughout Canterbury. The Hurunui-Waiau Zone Committee meeting venues and times vary\, so please check the website for details and agendas. The meetings are open to the public. \nThis event is dues to be held at the Hurunui District Council\, Carter’s Rd. Amberley\, but please check closer to the date. \nThese are vitally important meetings for anyone interested in the future of our braided rivers. \n\n \n
URL:http://braid.org.nz/event/canterbury-water-hurunui-waiau-zone-committee-21/
CATEGORIES:Zone Committee meetings
END:VEVENT
END:VCALENDAR